BEGIN:VCALENDAR
VERSION:2.0
PRODID:-//Kronstadparken - ECPv6.6.4.2//NONSGML v1.0//EN
CALSCALE:GREGORIAN
METHOD:PUBLISH
X-WR-CALNAME:Kronstadparken
X-ORIGINAL-URL:https://kronstadparken.no
X-WR-CALDESC:Arrangement for Kronstadparken
REFRESH-INTERVAL;VALUE=DURATION:PT1H
X-Robots-Tag:noindex
X-PUBLISHED-TTL:PT1H
BEGIN:VTIMEZONE
TZID:Europe/Oslo
BEGIN:DAYLIGHT
TZOFFSETFROM:+0100
TZOFFSETTO:+0200
TZNAME:CEST
DTSTART:20260329T010000
END:DAYLIGHT
BEGIN:STANDARD
TZOFFSETFROM:+0200
TZOFFSETTO:+0100
TZNAME:CET
DTSTART:20261025T010000
END:STANDARD
END:VTIMEZONE
BEGIN:VEVENT
DTSTART;TZID=Europe/Oslo:20260617T080000
DTEND;TZID=Europe/Oslo:20260617T093000
DTSTAMP:20260421T155036
CREATED:20260318T080635Z
LAST-MODIFIED:20260318T082159Z
UID:540866-1781683200-1781688600@kronstadparken.no
SUMMARY:Først mennesker\, så resultater!
DESCRIPTION:Hva er det som faktisk skaper resultater i en virksomhet?\nEr det struktur\, strategi og mål\, eller menneskene som skal få det til å skje? \nForskning på moderne ledelse viser at prestasjon over tid skapes gjennom tillit\, psykologisk trygghet og kvaliteten i samspillet mellom mennesker.\nSamtidig møter ledere en hverdag preget av høyt tempo\, krav og komplekse realiteter\, der det er krevende å stå stødig og ta gode beslutninger over tid. \nGod ledelse handler ikke bare om kompetanse og erfaring\, men om indre styrke og hvor presist lederen forstår seg selv og sin effekt på andre. \nDenne morgenen møter du Vivi Loftaas Osberg.\nHun har 20 års erfaring fra lederroller\, også fra toppledernivå\, og arbeider i dag med utvikling av toppledere\, ledergrupper og kultur og arbeidsmiljø i organisasjoner. \nGjennom konkrete eksempler\, verktøy og modeller viser hun hvordan tydelig ledelse og godt samspill skaper både tillit og resultater i praksis. \n\nHva kjennetegner en leder som skaper trygghet og tydelighet\nHvordan utvikle samspill og ansvar mellom ledere og medarbeidere\nHvordan skape resultater gjennom mennesker
URL:https://kronstadparken.no/event/forst-mennesker-sa-resultater/
LOCATION:Veveriet\, Inger Bang Lunds vei 4\, Bergen\, 5059
CATEGORIES:Morgenkvitter
ATTACH;FMTTYPE=image/jpeg:https://kronstadparken.no/wp-content/uploads/Vivi.jpeg
END:VEVENT
END:VCALENDAR