BEGIN:VCALENDAR
VERSION:2.0
PRODID:-//Kronstadparken - ECPv6.6.4.2//NONSGML v1.0//EN
CALSCALE:GREGORIAN
METHOD:PUBLISH
X-ORIGINAL-URL:https://kronstadparken.no
X-WR-CALDESC:Arrangement for Kronstadparken
REFRESH-INTERVAL;VALUE=DURATION:PT1H
X-Robots-Tag:noindex
X-PUBLISHED-TTL:PT1H
BEGIN:VTIMEZONE
TZID:Europe/Oslo
BEGIN:DAYLIGHT
TZOFFSETFROM:+0100
TZOFFSETTO:+0200
TZNAME:CEST
DTSTART:20260329T010000
END:DAYLIGHT
BEGIN:STANDARD
TZOFFSETFROM:+0200
TZOFFSETTO:+0100
TZNAME:CET
DTSTART:20261025T010000
END:STANDARD
END:VTIMEZONE
BEGIN:VEVENT
DTSTART;TZID=Europe/Oslo:20260527T080000
DTEND;TZID=Europe/Oslo:20260527T093000
DTSTAMP:20260421T141247
CREATED:20251201T134850Z
LAST-MODIFIED:20260225T123834Z
UID:540572-1779868800-1779874200@kronstadparken.no
SUMMARY:Psykososialt arbeidsmiljø- plikt eller mulighet?
DESCRIPTION:De nye presiseringene i arbeidsmiljøloven tydeliggjør arbeidsgivers ansvar for det psykososiale arbeidsmiljøet. \nFor mange virksomheter oppleves dette som enda et krav i en allerede travel hverdag. \nSamtidig gir endringene store muligheter; brukt riktig kan de bidra til lavere sykefravær\, bedre samspill i organisasjonen og mer forutsigbar drift. \nDenne morgenen får vi besøk av Camilla Lindheim Skulstad og Emilie Mjelde fra kompetansehuset Aider.\nDe viser hvordan regelverket kan omsettes til praksis og gi reell effekt i hverdagen. \n\nHva betyr lovendringen for deg som arbeidsgiver?\nHvordan kan arbeid med det psykososiale arbeidsmiljøet bidra til lavere sykefravær?\nHvordan kan du som leder ta dette ut i praksis?\n\n  \nCamilla leder tjenesteområdet Folk og kultur i Aider Region Vest.\nBåde hun og Emilie jobber tett med virksomheter innen lederutvikling\, sykefraværsoppfølging og systematisk arbeidsmiljøinnsats. \n\n\nPraktisk info:\n\nDato: Onsdag 27.mai\nKlokkeslett: 08.30- 09.30 (frokost serveres fra 08.00)\nSted: Veveriet\, Inger Bang Lundsvei 4\nVi spanderer enkel frokost! \nStart dagen med påfyll for både hode og mage\, og ta med deg praktiske tips du kan bruke direkte i din egen arbeidshverdag.
URL:https://kronstadparken.no/event/ungt-utenforskap-ser-vi-egentlig-problemet/
LOCATION:Veveriet\, Inger Bang Lunds vei 4\, Bergen\, 5059
CATEGORIES:Morgenkvitter
ATTACH;FMTTYPE=image/png:https://kronstadparken.no/wp-content/uploads/Morgenkvitter-28.05-6.png
END:VEVENT
END:VCALENDAR