BEGIN:VCALENDAR
VERSION:2.0
PRODID:-//Kronstadparken - ECPv6.6.4.2//NONSGML v1.0//EN
CALSCALE:GREGORIAN
METHOD:PUBLISH
X-ORIGINAL-URL:https://kronstadparken.no
X-WR-CALDESC:Arrangement for Kronstadparken
REFRESH-INTERVAL;VALUE=DURATION:PT1H
X-Robots-Tag:noindex
X-PUBLISHED-TTL:PT1H
BEGIN:VTIMEZONE
TZID:Europe/Oslo
BEGIN:DAYLIGHT
TZOFFSETFROM:+0100
TZOFFSETTO:+0200
TZNAME:CEST
DTSTART:20250330T010000
END:DAYLIGHT
BEGIN:STANDARD
TZOFFSETFROM:+0200
TZOFFSETTO:+0100
TZNAME:CET
DTSTART:20251026T010000
END:STANDARD
END:VTIMEZONE
BEGIN:VEVENT
DTSTART;TZID=Europe/Oslo:20251210T080000
DTEND;TZID=Europe/Oslo:20251210T093000
DTSTAMP:20260423T165814
CREATED:20250908T075207Z
LAST-MODIFIED:20250908T075223Z
UID:540230-1765353600-1765359000@kronstadparken.no
SUMMARY:Samarbeid\, ansvar og relasjoner - til inspirasjon og ettertanke
DESCRIPTION:Denne morgenen får vi besøk av Marco Elsafadi\, som med varme og engasjement deler inspirasjon\, erfaringer og konkrete verktøy som styrker både arbeidsmiljø og menneskelige relasjoner. \nEt godt arbeidsmiljø skaper bedre resultater – men det kommer ikke av seg selv.\nDet krever bevisste ledere og aktive medarbeidere\, bygget på åpenhet\, tillit og en sterk tilbakemeldingskultur. \nMarco er opptatt av kraften i relasjonen mellom mennesker – på godt og vondt.\nHverdagen handler om samarbeid: vi bygger hverandre opp og bryter hverandre ned hver dag.\nSpørsmålet er: Er vi bevisste på vårt ansvar i samspillet med andre?\n \nHvorfor høre Marco? \n✅ Over 30 års erfaring med å veilede sårbare mennesker\n✅ Grunnlegger av prosjekter og stiftelser som hjelper ungdom på skråplanet\n✅ Tidligere toppidrettsutøver – 18 år på toppnivå i basketball\n✅ Vinner av Mesternes Mester 2014 \nVi spanderer enkel frokost! \nStart dagen med påfyll til både hode og mage – og ta med deg praktiske tips du kan bruke direkte i din egen arbeidshverdag. \n📅 Onsdag 10. desember\n⏰ 08:30–09:30 (frokost serveres fra kl. 08:00)\n📍 Veveriet\, Inger Bang Lunds vei 4 \n  \n👉 Husk å legge arrangementet i kalenderen – dette vil du ikke gå glipp av!
URL:https://kronstadparken.no/event/samarbeid-ansvar-og-relasjoner-til-inspirasjon-og-ettertanke/
LOCATION:Veveriet\, Inger Bang Lunds vei 4\, Bergen\, 5059
CATEGORIES:Morgenkvitter
ATTACH;FMTTYPE=image/png:https://kronstadparken.no/wp-content/uploads/Marco.png
END:VEVENT
END:VCALENDAR