BEGIN:VCALENDAR
VERSION:2.0
PRODID:-//Kronstadparken - ECPv6.6.4.2//NONSGML v1.0//EN
CALSCALE:GREGORIAN
METHOD:PUBLISH
X-ORIGINAL-URL:https://kronstadparken.no
X-WR-CALDESC:Arrangement for Kronstadparken
REFRESH-INTERVAL;VALUE=DURATION:PT1H
X-Robots-Tag:noindex
X-PUBLISHED-TTL:PT1H
BEGIN:VTIMEZONE
TZID:Europe/Oslo
BEGIN:DAYLIGHT
TZOFFSETFROM:+0100
TZOFFSETTO:+0200
TZNAME:CEST
DTSTART:20250330T010000
END:DAYLIGHT
BEGIN:STANDARD
TZOFFSETFROM:+0200
TZOFFSETTO:+0100
TZNAME:CET
DTSTART:20251026T010000
END:STANDARD
END:VTIMEZONE
BEGIN:VEVENT
DTSTART;TZID=Europe/Oslo:20250430T080000
DTEND;TZID=Europe/Oslo:20250430T093000
DTSTAMP:20260421T204152
CREATED:20250303T121112Z
LAST-MODIFIED:20250314T082721Z
UID:539696-1746000000-1746005400@kronstadparken.no
SUMMARY:Morgenkvitter – B2B-markedsstrategi og salg
DESCRIPTION:Start dagen med et inspirerende foredrag om B2B-markedsstrategi og salg – med Kristian Kofod fra Surfs!\n\nHar dere et mål om vekst\, men ingen klar formening om hvordan det skal nås? Er markedsføringsbudsjettet holdt av til de samme konferansene hvert år\, eller ligger det en plan bak? \n\nKristian Kofod fra Surfs vil i løpet av timen:\n👉🏼 Fortelle hva en god B2B-markedsstrategi kan gjøre for salget ditt\n👉🏼 Vise hvordan man kan unngå noen typiske B2B fallgruver\n👉🏼 Bryte ned hva bedriftene som er best på B2B-salg og markedsføring gjør og hva vi kan lære av det\n\n\n\nVi spanderer frokost og inviterer deg til en lærerik og inspirerende start på dagen!\n🗓️ Onsdag 30. april\n🕣 08:30–09:30 (Frokost serveres fra kl. 08:00)\n📍 Veveriet\, Inger Bang Lunds vei 4\n\nNB! Husk å legge til arrangementet i kalenderen din\, så du ikke går glipp av det
URL:https://kronstadparken.no/event/morgenkvitter-er-det-bedrifter-eller-personer-som-kjoper-produktene-og-tjenestene-dine/
LOCATION:Veveriet\, Inger Bang Lunds vei 4\, Bergen\, 5059
CATEGORIES:Morgenkvitter
ATTACH;FMTTYPE=image/png:https://kronstadparken.no/wp-content/uploads/Frame-10-1.png
END:VEVENT
END:VCALENDAR