BEGIN:VCALENDAR
VERSION:2.0
PRODID:-//Kronstadparken - ECPv6.6.4.2//NONSGML v1.0//EN
CALSCALE:GREGORIAN
METHOD:PUBLISH
X-ORIGINAL-URL:https://kronstadparken.no
X-WR-CALDESC:Arrangement for Kronstadparken
REFRESH-INTERVAL;VALUE=DURATION:PT1H
X-Robots-Tag:noindex
X-PUBLISHED-TTL:PT1H
BEGIN:VTIMEZONE
TZID:Europe/Oslo
BEGIN:DAYLIGHT
TZOFFSETFROM:+0100
TZOFFSETTO:+0200
TZNAME:CEST
DTSTART:20250330T010000
END:DAYLIGHT
BEGIN:STANDARD
TZOFFSETFROM:+0200
TZOFFSETTO:+0100
TZNAME:CET
DTSTART:20251026T010000
END:STANDARD
END:VTIMEZONE
BEGIN:VEVENT
DTSTART;TZID=Europe/Oslo:20250915T083000
DTEND;TZID=Europe/Oslo:20250915T100000
DTSTAMP:20260421T111501
CREATED:20250905T105535Z
LAST-MODIFIED:20250908T131719Z
UID:540213-1757925000-1757930400@kronstadparken.no
SUMMARY:Innovasjonsuken OPP - 2025
DESCRIPTION:I 2025 preges verden av ustabilitet – enten det gjelder økonomi\, politikk eller klima. Eksperter fra ulike bransjer vil dele innsikt og perspektiver på hvordan vi kan håndtere usikkerhet\, møte kaoset – og samtidig bevege oss fremover med trygghet og handlekraft. \nTid: Mandag 15 Sep 2025 – 08:30 – 10:00\nSted: Veveriet\, Kronstadparken\, Inger Bang Lunds vei 4 Bergen \n⭐ Welcome\nMaja Mujic Elgsaas\, Innovation Manager\nCrayon \n⭐ How to create a value proposition and how to make it last!\nLars Grønnestad\, Senior Forretningsutvikler\nVIS \n⭐ What ‘strategy’ isn’t… Thinking differently about innovation strategy\nPatrick Abbott\, Patentrådgiver\nAcapo Onsagers \n⭐ Data Mastery – Ten tips for a solid data strategy\nAndrew Skulstad-Watson\, Regional Leader\nCrayon Consulting \n⭐ Innovation Playbook – A roadmap for product development\nBjørnar Vasenden\, Product Designer/Regional Manager\nInventas \n⭐ New Wireless Breathing Sensor – our medtech journey so far\nAndreas Tunset\, CQO / CO-founder\nEupnea AS \nVi serverer frokost 🥐
URL:https://kronstadparken.no/event/innovasjonsuken-opp-2025/
LOCATION:Veveriet\, Inger Bang Lunds vei 4\, Bergen\, 5059
CATEGORIES:Arrangement
END:VEVENT
END:VCALENDAR