BEGIN:VCALENDAR
VERSION:2.0
PRODID:-//Kronstadparken - ECPv6.6.4.2//NONSGML v1.0//EN
CALSCALE:GREGORIAN
METHOD:PUBLISH
X-ORIGINAL-URL:https://kronstadparken.no
X-WR-CALDESC:Arrangement for Kronstadparken
REFRESH-INTERVAL;VALUE=DURATION:PT1H
X-Robots-Tag:noindex
X-PUBLISHED-TTL:PT1H
BEGIN:VTIMEZONE
TZID:Europe/Oslo
BEGIN:DAYLIGHT
TZOFFSETFROM:+0100
TZOFFSETTO:+0200
TZNAME:CEST
DTSTART:20250330T010000
END:DAYLIGHT
BEGIN:STANDARD
TZOFFSETFROM:+0200
TZOFFSETTO:+0100
TZNAME:CET
DTSTART:20251026T010000
END:STANDARD
END:VTIMEZONE
BEGIN:VEVENT
DTSTART;TZID=Europe/Oslo:20250515T110000
DTEND;TZID=Europe/Oslo:20250515T140000
DTSTAMP:20260423T211108
CREATED:20250512T080506Z
LAST-MODIFIED:20250515T063607Z
UID:539919-1747306800-1747317600@kronstadparken.no
SUMMARY:Gratis sykkelservice 15. mai
DESCRIPTION:Miljøløftet kommer til Kronstadparken torsdag 15. mai.\nDe tilbyr gratis sykkelservice til alle\, så vi anbefaler å ta sykkelen til jobb denne dagen 🤩 \nFørstemann til mølla – i løpet av timene klarer de 40-50 sykler. \nI tillegg blir det konkurranse hvor det er en EL-sykkel i premiepotten. \nDu finner de utenfor Fabrikkgaten 6 mellom kl 11:00-1400.
URL:https://kronstadparken.no/event/gratis-sykkelservice-15-mai/
LOCATION:Fabrikkgaten 6
CATEGORIES:Arrangement
ATTACH;FMTTYPE=image/png:https://kronstadparken.no/wp-content/uploads/Sykkelservice-2.png
END:VEVENT
END:VCALENDAR