BEGIN:VCALENDAR
VERSION:2.0
PRODID:-//Kronstadparken - ECPv6.6.4.2//NONSGML v1.0//EN
CALSCALE:GREGORIAN
METHOD:PUBLISH
X-WR-CALNAME:Kronstadparken
X-ORIGINAL-URL:https://kronstadparken.no
X-WR-CALDESC:Arrangement for Kronstadparken
REFRESH-INTERVAL;VALUE=DURATION:PT1H
X-Robots-Tag:noindex
X-PUBLISHED-TTL:PT1H
BEGIN:VTIMEZONE
TZID:Europe/Oslo
BEGIN:DAYLIGHT
TZOFFSETFROM:+0100
TZOFFSETTO:+0200
TZNAME:CEST
DTSTART:20250330T010000
END:DAYLIGHT
BEGIN:STANDARD
TZOFFSETFROM:+0200
TZOFFSETTO:+0100
TZNAME:CET
DTSTART:20251026T010000
END:STANDARD
END:VTIMEZONE
BEGIN:VEVENT
DTSTART;TZID=Europe/Oslo:20250403T160000
DTEND;TZID=Europe/Oslo:20250403T210000
DTSTAMP:20260423T223354
CREATED:20250211T112230Z
LAST-MODIFIED:20250211T112319Z
UID:539640-1743696000-1743714000@kronstadparken.no
SUMMARY:Ny Quiz-runde - nye vinnermuligheter! 🌟
DESCRIPTION:Kan noen slå advokatene? 🌟 \nRyger Advokater gikk seirende ut av forrige runde\, men quiz-tronen er aldri trygg lenge!\nNå er det DIN tur til å utfordre dem og kapre både heder\, ære og skryterettigheter. 🏆 \nEr du klar for nye spørsmål\, nye dueller og kanskje en ny vinner?\nSamle en skarp\, morsom eller bare veldig entusiastisk gjeng og bli med! \n🚨 Viktig: Ryktet sier at de forsvarende mesterne allerede trener til runde 2\, så kom forberedt\, kom sulten på seier – og ikke minst\, kom sulten på pizza! 🍕 \n📢 QuizMaster Remi André Taule lover nok en runde med «godt og blandet»\, så alt kan skje! \nPraktisk info: \n📅 Torsdag 03. april\n🕓 16:00 – ca. 21:00\n🍽️ Pizzabuffet fra Søtt+Salt – 175 kr per pers.\n🍻 Bar med rikelig utvalg (quiz fungerer best med god væskebalanse).\n⚡ Forrige runde var fullbooket\, så meld deg på raskt for å sikre plass! \nSpørsmål?\nTa kontakt med Katrine: katrine@bara.no
URL:https://kronstadparken.no/event/ny-quiz-runde-nye-vinnermuligheter-%f0%9f%8c%9f/
LOCATION:Støperiet\, Edvard Griegs vei 1
CATEGORIES:Arrangement
ATTACH;FMTTYPE=image/jpeg:https://kronstadparken.no/wp-content/uploads/Meet-mingle52-1.jpg
END:VEVENT
END:VCALENDAR