BEGIN:VCALENDAR
VERSION:2.0
PRODID:-//Kronstadparken - ECPv6.6.4.2//NONSGML v1.0//EN
CALSCALE:GREGORIAN
METHOD:PUBLISH
X-WR-CALNAME:Kronstadparken
X-ORIGINAL-URL:https://kronstadparken.no
X-WR-CALDESC:Arrangement for Kronstadparken
REFRESH-INTERVAL;VALUE=DURATION:PT1H
X-Robots-Tag:noindex
X-PUBLISHED-TTL:PT1H
BEGIN:VTIMEZONE
TZID:Europe/Oslo
BEGIN:DAYLIGHT
TZOFFSETFROM:+0100
TZOFFSETTO:+0200
TZNAME:CEST
DTSTART:20250330T010000
END:DAYLIGHT
BEGIN:STANDARD
TZOFFSETFROM:+0200
TZOFFSETTO:+0100
TZNAME:CET
DTSTART:20251026T010000
END:STANDARD
END:VTIMEZONE
BEGIN:VEVENT
DTSTART;TZID=Europe/Oslo:20250829T170000
DTEND;TZID=Europe/Oslo:20250829T233000
DTSTAMP:20260423T112159
CREATED:20250106T121949Z
LAST-MODIFIED:20250516T062144Z
UID:539532-1756486800-1756510200@kronstadparken.no
SUMMARY:Sensommerfest i Kronstadparken ☀️
DESCRIPTION:🎉 INVITASJON TIL SENSOMMERFEST I KRONSTADPARKEN\nDato: Fredag 29. august\nTid: Kl. 17:00-Zzzzz\nSted: Gartneriet\n\nDette er en kveld du ikke vil gå glipp av!\nVi inviterer til sensommerfest fylt med smil\, konkurranse\, god mat og høy stemning – akkurat slik vi liker det.\n\n✨ Kveldens program byr på:\n\n\n🎤 Stand up – vi garanterer latterkrampe\n\n\n🎶 Live musikk – allsangen kommer til å runge\n\n\n🕵️‍♂️ Jakten i Kronstadparken – finale og kåring av beste rebuslag\n\n\n📸 Selfiebar – forevig øyeblikkene\n\n\n🍹 Åpen bar og mulighet for drikkebonger\n\n\n\n🍽️ Festpakken inkluderer alt dette for kun kr. 595\,- per person:\n\n\nEn nydelig grilltallerken fra Søtt + Salt\n\n\n1 aperitiff ved ankomst\n\n\nDeilig dessert og selvfølgelig snacks på bordene utover kvelden\n\n\nFullt program med underholdning\n\n\nGod stemning og enda bedre selskap\n\n\n\n📬 Påmelding:\nFor å kunne gjennomføre arrangementet trenger vi et minimumsantall deltakere.\nGi oss gjerne et ca. antall fra din bedrift så snart som mulig – \nog senest innen fredag 27. juni. Korrekt antall fra hver bedrift tar vi rett over sommeren. \n\nØnsker du å melde på en hel gjeng – send mail til katrine@bara.no\n\nDette blir årets høydepunkt i Kronstadparken – så samle gjengen\, finn frem konkurranseinstinktet og bli med på festen! 🌟
URL:https://kronstadparken.no/event/sommerfest-i-kronstadparken/
LOCATION:Gartneriet
CATEGORIES:Arrangement
ATTACH;FMTTYPE=image/jpeg:https://kronstadparken.no/wp-content/uploads/0035-Sensommerfest-d118-template.jpg
END:VEVENT
END:VCALENDAR